Package: HelloRanges Version: 1.33.0 Command: /home/biocbuild/bbs-3.21-bioc/R/bin/R CMD build --keep-empty-dirs --no-resave-data HelloRanges StartedAt: 2025-02-12 17:33:06 -0500 (Wed, 12 Feb 2025) EndedAt: 2025-02-12 17:36:55 -0500 (Wed, 12 Feb 2025) EllapsedTime: 228.9 seconds RetCode: 0 Status: OK PackageFile: HelloRanges_1.33.0.tar.gz PackageFileSize: 951.3 KiB