Package: Herper Version: 1.17.0 Command: /Library/Frameworks/R.framework/Resources/bin/R CMD build --keep-empty-dirs --no-resave-data Herper StartedAt: 2025-02-12 16:36:03 -0500 (Wed, 12 Feb 2025) EndedAt: 2025-02-12 16:36:07 -0500 (Wed, 12 Feb 2025) EllapsedTime: 4.0 seconds RetCode: 0 Status: OK PackageFile: Herper_1.17.0.tar.gz PackageFileSize: 407.8 KiB