Package: Herper Version: 1.17.0 Command: /Library/Frameworks/R.framework/Resources/bin/R CMD check --install=check:Herper.install-out.txt --library=/Library/Frameworks/R.framework/Resources/library --no-vignettes --timings Herper_1.17.0.tar.gz StartedAt: 2025-02-09 19:36:31 -0500 (Sun, 09 Feb 2025) EndedAt: 2025-02-09 19:36:54 -0500 (Sun, 09 Feb 2025) EllapsedTime: 22.3 seconds RetCode: 1 Status: ERROR CheckDir: Herper.Rcheck Warnings: NA