Package: Herper Version: 1.17.0 Command: /home/biocbuild/R/R/bin/R CMD build --keep-empty-dirs --no-resave-data Herper StartedAt: 2025-01-28 23:33:17 -0000 (Tue, 28 Jan 2025) EndedAt: 2025-01-28 23:33:30 -0000 (Tue, 28 Jan 2025) EllapsedTime: 13.0 seconds RetCode: 0 Status: OK PackageFile: Herper_1.17.0.tar.gz PackageFileSize: 433.8 KiB