Package: Herper Version: 1.17.0 Command: /home/biocbuild/R/R/bin/R CMD check --install=check:Herper.install-out.txt --library=/home/biocbuild/R/R/site-library --no-vignettes --timings Herper_1.17.0.tar.gz StartedAt: 2025-01-28 11:26:14 -0000 (Tue, 28 Jan 2025) EndedAt: 2025-01-28 11:27:13 -0000 (Tue, 28 Jan 2025) EllapsedTime: 59.1 seconds RetCode: 1 Status: ERROR CheckDir: Herper.Rcheck Warnings: NA