Package: Herper Version: 1.17.0 Command: /home/biocbuild/R/R/bin/R CMD INSTALL Herper StartedAt: 2025-01-29 19:35:44 -0000 (Wed, 29 Jan 2025) EndedAt: 2025-01-29 19:36:08 -0000 (Wed, 29 Jan 2025) EllapsedTime: 24.5 seconds RetCode: 0 Status: OK