Package: Herper Version: 1.17.0 Command: /Library/Frameworks/R.framework/Resources/bin/R CMD check --install=check:Herper.install-out.txt --library=/Library/Frameworks/R.framework/Resources/library --no-vignettes --timings Herper_1.17.0.tar.gz StartedAt: 2025-02-09 21:14:02 -0500 (Sun, 09 Feb 2025) EndedAt: 2025-02-09 21:15:43 -0500 (Sun, 09 Feb 2025) EllapsedTime: 100.9 seconds RetCode: 0 Status: OK CheckDir: Herper.Rcheck Warnings: 0