Package: Herper Version: 1.17.0 Command: /home/biocbuild/bbs-3.21-bioc/R/bin/R CMD check --install=check:Herper.install-out.txt --library=/home/biocbuild/bbs-3.21-bioc/R/site-library --timings Herper_1.17.0.tar.gz StartedAt: 2025-02-09 23:04:32 -0500 (Sun, 09 Feb 2025) EndedAt: 2025-02-09 23:05:56 -0500 (Sun, 09 Feb 2025) EllapsedTime: 84.1 seconds RetCode: 0 Status: OK CheckDir: Herper.Rcheck Warnings: 0