Package: Herper Version: 1.17.0 Command: rm -rf Herper.buildbin-libdir && mkdir Herper.buildbin-libdir && E:\biocbuild\bbs-3.21-bioc\R\bin\R.exe CMD INSTALL --build --library=Herper.buildbin-libdir Herper_1.17.0.tar.gz StartedAt: 2025-02-10 07:55:00 -0500 (Mon, 10 Feb 2025) EndedAt: 2025-02-10 07:55:18 -0500 (Mon, 10 Feb 2025) EllapsedTime: 18.4 seconds RetCode: 0 Status: OK PackageFile: Herper_1.17.0.zip PackageFileSize: 466.1 KiB