Package: Herper Version: 1.17.0 Command: chmod a+r Herper -R && E:\biocbuild\bbs-3.21-bioc\R\bin\R.exe CMD build --keep-empty-dirs --no-resave-data Herper StartedAt: 2025-02-09 19:12:31 -0500 (Sun, 09 Feb 2025) EndedAt: 2025-02-09 19:12:49 -0500 (Sun, 09 Feb 2025) EllapsedTime: 17.8 seconds RetCode: 0 Status: OK PackageFile: Herper_1.17.0.tar.gz PackageFileSize: 407.9 KiB