Package: HiCBricks Version: 1.25.0 Command: rm -rf HiCBricks.buildbin-libdir && mkdir HiCBricks.buildbin-libdir && /Users/biocbuild/BBS/utils/build-universal.sh HiCBricks_1.25.0.tar.gz /Library/Frameworks/R.framework/Resources/bin/R HiCBricks.buildbin-libdir StartedAt: 2025-02-09 22:17:18 -0500 (Sun, 09 Feb 2025) EndedAt: 2025-02-09 22:17:26 -0500 (Sun, 09 Feb 2025) EllapsedTime: 8.2 seconds RetCode: 0 Status: OK PackageFile: HiCBricks_1.25.0.tgz PackageFileSize: 9.096 MiB