Package: HiCBricks Version: 1.25.0 Command: /Library/Frameworks/R.framework/Resources/bin/R CMD build --keep-empty-dirs --no-resave-data HiCBricks StartedAt: 2025-02-04 16:36:35 -0500 (Tue, 04 Feb 2025) EndedAt: 2025-02-04 16:37:03 -0500 (Tue, 04 Feb 2025) EllapsedTime: 28.2 seconds RetCode: 0 Status: OK PackageFile: HiCBricks_1.25.0.tar.gz PackageFileSize: 8.599 MiB