Package: HiCBricks Version: 1.25.0 Command: /home/biocbuild/R/R/bin/R CMD check --install=check:HiCBricks.install-out.txt --library=/home/biocbuild/R/R/site-library --no-vignettes --timings HiCBricks_1.25.0.tar.gz StartedAt: 2025-01-28 11:27:13 -0000 (Tue, 28 Jan 2025) EndedAt: 2025-01-28 11:31:03 -0000 (Tue, 28 Jan 2025) EllapsedTime: 230.1 seconds RetCode: 0 Status: OK CheckDir: HiCBricks.Rcheck Warnings: 0