Package: HiCBricks Version: 1.25.0 Command: /home/biocbuild/R/R/bin/R CMD INSTALL HiCBricks StartedAt: 2025-01-29 20:00:30 -0000 (Wed, 29 Jan 2025) EndedAt: 2025-01-29 20:00:52 -0000 (Wed, 29 Jan 2025) EllapsedTime: 21.9 seconds RetCode: 0 Status: OK