Package: HiCBricks Version: 1.25.0 Command: /Library/Frameworks/R.framework/Resources/bin/R CMD check --install=check:HiCBricks.install-out.txt --library=/Library/Frameworks/R.framework/Resources/library --no-vignettes --timings HiCBricks_1.25.0.tar.gz StartedAt: 2025-02-04 21:00:05 -0500 (Tue, 04 Feb 2025) EndedAt: 2025-02-04 21:02:57 -0500 (Tue, 04 Feb 2025) EllapsedTime: 171.6 seconds RetCode: 0 Status: OK CheckDir: HiCBricks.Rcheck Warnings: 0