Package: HiCBricks Version: 1.25.0 Command: /home/biocbuild/bbs-3.21-bioc/R/bin/R CMD build --keep-empty-dirs --no-resave-data HiCBricks StartedAt: 2025-02-04 17:35:39 -0500 (Tue, 04 Feb 2025) EndedAt: 2025-02-04 17:36:48 -0500 (Tue, 04 Feb 2025) EllapsedTime: 69.2 seconds RetCode: 0 Status: OK PackageFile: HiCBricks_1.25.0.tar.gz PackageFileSize: 5.133 MiB