Package: HiCBricks Version: 1.25.0 Command: /home/biocbuild/bbs-3.21-bioc/R/bin/R CMD INSTALL HiCBricks StartedAt: 2025-02-04 15:14:23 -0500 (Tue, 04 Feb 2025) EndedAt: 2025-02-04 15:14:39 -0500 (Tue, 04 Feb 2025) EllapsedTime: 16.4 seconds RetCode: 0 Status: OK