Package: HiCBricks Version: 1.25.0 Command: rm -rf HiCBricks.buildbin-libdir && mkdir HiCBricks.buildbin-libdir && E:\biocbuild\bbs-3.21-bioc\R\bin\R.exe CMD INSTALL --build --library=HiCBricks.buildbin-libdir HiCBricks_1.25.0.tar.gz StartedAt: 2025-02-05 08:06:57 -0500 (Wed, 05 Feb 2025) EndedAt: 2025-02-05 08:08:04 -0500 (Wed, 05 Feb 2025) EllapsedTime: 66.6 seconds RetCode: 0 Status: OK PackageFile: HiCBricks_1.25.0.zip PackageFileSize: 4.897 MiB