Package: HiCBricks Version: 1.25.0 Command: chmod a+r HiCBricks -R && E:\biocbuild\bbs-3.21-bioc\R\bin\R.exe CMD build --keep-empty-dirs --no-resave-data HiCBricks StartedAt: 2025-02-04 19:15:30 -0500 (Tue, 04 Feb 2025) EndedAt: 2025-02-04 19:18:06 -0500 (Tue, 04 Feb 2025) EllapsedTime: 156.6 seconds RetCode: 0 Status: OK PackageFile: HiCBricks_1.25.0.tar.gz PackageFileSize: 4.406 MiB