Package: HiCBricks Version: 1.25.0 Command: E:\biocbuild\bbs-3.21-bioc\R\bin\R.exe CMD check --no-multiarch --install=check:HiCBricks.install-out.txt --library=E:\biocbuild\bbs-3.21-bioc\R\library --no-vignettes --timings HiCBricks_1.25.0.tar.gz StartedAt: 2025-02-05 02:21:56 -0500 (Wed, 05 Feb 2025) EndedAt: 2025-02-05 02:26:49 -0500 (Wed, 05 Feb 2025) EllapsedTime: 293.3 seconds RetCode: 0 Status: OK CheckDir: HiCBricks.Rcheck Warnings: 0