Package: HiCBricks Version: 1.25.0 Command: E:\biocbuild\bbs-3.21-bioc\R\bin\R.exe CMD INSTALL HiCBricks StartedAt: 2025-02-04 15:51:02 -0500 (Tue, 04 Feb 2025) EndedAt: 2025-02-04 15:52:07 -0500 (Tue, 04 Feb 2025) EllapsedTime: 64.4 seconds RetCode: 0 Status: OK