Package: HiCDOC Version: 1.9.2 Command: /Library/Frameworks/R.framework/Resources/bin/R CMD check --install=check:HiCDOC.install-out.txt --library=/Library/Frameworks/R.framework/Resources/library --no-vignettes --timings HiCDOC_1.9.2.tar.gz StartedAt: 2025-02-09 19:37:26 -0500 (Sun, 09 Feb 2025) EndedAt: 2025-02-09 19:40:14 -0500 (Sun, 09 Feb 2025) EllapsedTime: 168.0 seconds RetCode: 0 Status: OK CheckDir: HiCDOC.Rcheck Warnings: 0