Package: HiCDOC Version: 1.9.2 Command: /home/biocbuild/bbs-3.21-bioc/R/bin/R CMD INSTALL HiCDOC StartedAt: 2025-02-12 15:32:02 -0500 (Wed, 12 Feb 2025) EndedAt: 2025-02-12 15:32:41 -0500 (Wed, 12 Feb 2025) EllapsedTime: 39.6 seconds RetCode: 0 Status: OK