Package: HiCDOC Version: 1.9.2 Command: E:\biocbuild\bbs-3.21-bioc\R\bin\R.exe CMD INSTALL HiCDOC StartedAt: 2025-02-09 16:14:56 -0500 (Sun, 09 Feb 2025) EndedAt: 2025-02-09 16:15:11 -0500 (Sun, 09 Feb 2025) EllapsedTime: 14.5 seconds RetCode: 1 Status: ERROR