Package: HiCcompare Version: 1.29.0 Command: rm -rf HiCcompare.buildbin-libdir && mkdir HiCcompare.buildbin-libdir && /Users/biocbuild/BBS/utils/build-universal.sh HiCcompare_1.29.0.tar.gz /Library/Frameworks/R.framework/Resources/bin/R HiCcompare.buildbin-libdir StartedAt: 2025-02-03 22:53:08 -0500 (Mon, 03 Feb 2025) EndedAt: 2025-02-03 22:53:25 -0500 (Mon, 03 Feb 2025) EllapsedTime: 16.4 seconds RetCode: 0 Status: OK PackageFile: HiCcompare_1.29.0.tgz PackageFileSize: 3.803 MiB