Package: HiCcompare Version: 1.29.0 Command: /Library/Frameworks/R.framework/Resources/bin/R CMD build --keep-empty-dirs --no-resave-data HiCcompare StartedAt: 2025-02-09 16:36:20 -0500 (Sun, 09 Feb 2025) EndedAt: 2025-02-09 16:36:44 -0500 (Sun, 09 Feb 2025) EllapsedTime: 24.3 seconds RetCode: 0 Status: OK PackageFile: HiCcompare_1.29.0.tar.gz PackageFileSize: 3.688 MiB