Package: HiCcompare Version: 1.29.0 Command: /Library/Frameworks/R.framework/Resources/bin/R CMD INSTALL HiCcompare StartedAt: 2025-02-09 15:07:35 -0500 (Sun, 09 Feb 2025) EndedAt: 2025-02-09 15:07:50 -0500 (Sun, 09 Feb 2025) EllapsedTime: 15.0 seconds RetCode: 0 Status: OK