Package: HiCcompare Version: 1.29.0 Command: /Library/Frameworks/R.framework/Resources/bin/R CMD build --keep-empty-dirs --no-resave-data HiCcompare StartedAt: 2025-02-03 17:04:12 -0500 (Mon, 03 Feb 2025) EndedAt: 2025-02-03 17:05:19 -0500 (Mon, 03 Feb 2025) EllapsedTime: 67.5 seconds RetCode: 0 Status: OK PackageFile: HiCcompare_1.29.0.tar.gz PackageFileSize: 3.679 MiB