Package: HiCcompare Version: 1.29.0 Command: /home/biocbuild/bbs-3.21-bioc/R/bin/R CMD INSTALL HiCcompare StartedAt: 2025-02-09 15:30:35 -0500 (Sun, 09 Feb 2025) EndedAt: 2025-02-09 15:31:11 -0500 (Sun, 09 Feb 2025) EllapsedTime: 36.5 seconds RetCode: 0 Status: OK