Package: HiCcompare Version: 1.29.0 Command: rm -rf HiCcompare.buildbin-libdir && mkdir HiCcompare.buildbin-libdir && E:\biocbuild\bbs-3.21-bioc\R\bin\R.exe CMD INSTALL --build --library=HiCcompare.buildbin-libdir HiCcompare_1.29.0.tar.gz StartedAt: 2025-02-04 08:08:42 -0500 (Tue, 04 Feb 2025) EndedAt: 2025-02-04 08:09:34 -0500 (Tue, 04 Feb 2025) EllapsedTime: 52.7 seconds RetCode: 0 Status: OK PackageFile: HiCcompare_1.29.0.zip PackageFileSize: 3.443 MiB