Package: HiCcompare Version: 1.29.0 Command: chmod a+r HiCcompare -R && E:\biocbuild\bbs-3.21-bioc\R\bin\R.exe CMD build --keep-empty-dirs --no-resave-data HiCcompare StartedAt: 2025-02-09 19:13:00 -0500 (Sun, 09 Feb 2025) EndedAt: 2025-02-09 19:14:26 -0500 (Sun, 09 Feb 2025) EllapsedTime: 86.1 seconds RetCode: 0 Status: OK PackageFile: HiCcompare_1.29.0.tar.gz PackageFileSize: 3.324 MiB