Package: HiCcompare Version: 1.29.0 Command: E:\biocbuild\bbs-3.21-bioc\R\bin\R.exe CMD INSTALL HiCcompare StartedAt: 2025-02-09 16:12:53 -0500 (Sun, 09 Feb 2025) EndedAt: 2025-02-09 16:13:58 -0500 (Sun, 09 Feb 2025) EllapsedTime: 65.6 seconds RetCode: 0 Status: OK