Package: HiCool Version: 1.7.0 Command: /home/biocbuild/R/R/bin/R CMD build --keep-empty-dirs --no-resave-data HiCool StartedAt: 2025-01-28 23:35:55 -0000 (Tue, 28 Jan 2025) EndedAt: 2025-01-28 23:40:13 -0000 (Tue, 28 Jan 2025) EllapsedTime: 258.0 seconds RetCode: 1 Status: ERROR PackageFile: None PackageFileSize: NA