Package: HiCool Version: 1.7.0 Command: rm -rf HiCool.buildbin-libdir && mkdir HiCool.buildbin-libdir && /Users/biocbuild/BBS/utils/build-universal.sh HiCool_1.7.0.tar.gz /Library/Frameworks/R.framework/Resources/bin/R HiCool.buildbin-libdir StartedAt: 2025-02-13 00:40:50 -0500 (Thu, 13 Feb 2025) EndedAt: 2025-02-13 00:41:25 -0500 (Thu, 13 Feb 2025) EllapsedTime: 34.8 seconds RetCode: 0 Status: OK PackageFile: HiCool_1.7.0.tgz PackageFileSize: 730 KiB