Package: HiLDA Version: 1.21.0 Command: rm -rf HiLDA.buildbin-libdir && mkdir HiLDA.buildbin-libdir && /Users/biocbuild/BBS/utils/build-universal.sh HiLDA_1.21.0.tar.gz /Library/Frameworks/R.framework/Resources/bin/R HiLDA.buildbin-libdir StartedAt: 2025-02-09 22:17:27 -0500 (Sun, 09 Feb 2025) EndedAt: 2025-02-09 22:17:34 -0500 (Sun, 09 Feb 2025) EllapsedTime: 7.1 seconds RetCode: 0 Status: OK PackageFile: HiLDA_1.21.0.tgz PackageFileSize: 2.609 MiB