Package: HiLDA Version: 1.21.0 Command: /Library/Frameworks/R.framework/Resources/bin/R CMD build --keep-empty-dirs --no-resave-data HiLDA StartedAt: 2025-02-09 16:37:29 -0500 (Sun, 09 Feb 2025) EndedAt: 2025-02-09 16:38:29 -0500 (Sun, 09 Feb 2025) EllapsedTime: 60.6 seconds RetCode: 0 Status: OK PackageFile: HiLDA_1.21.0.tar.gz PackageFileSize: 2.46 MiB