Package: HiLDA Version: 1.21.0 Command: /home/biocbuild/R/R/bin/R CMD INSTALL HiLDA StartedAt: 2025-01-29 19:57:29 -0000 (Wed, 29 Jan 2025) EndedAt: 2025-01-29 19:57:55 -0000 (Wed, 29 Jan 2025) EllapsedTime: 26.3 seconds RetCode: 0 Status: OK