Package: HiLDA Version: 1.21.0 Command: /Library/Frameworks/R.framework/Resources/bin/R CMD INSTALL HiLDA StartedAt: 2025-02-09 15:22:50 -0500 (Sun, 09 Feb 2025) EndedAt: 2025-02-09 15:23:18 -0500 (Sun, 09 Feb 2025) EllapsedTime: 27.6 seconds RetCode: 0 Status: OK