Package: HiLDA Version: 1.21.0 Command: /home/biocbuild/bbs-3.21-bioc/R/bin/R CMD INSTALL HiLDA StartedAt: 2025-02-03 16:07:42 -0500 (Mon, 03 Feb 2025) EndedAt: 2025-02-03 16:07:59 -0500 (Mon, 03 Feb 2025) EllapsedTime: 17.4 seconds RetCode: 0 Status: OK