Package: HiLDA Version: 1.21.0 Command: rm -rf HiLDA.buildbin-libdir && mkdir HiLDA.buildbin-libdir && E:\biocbuild\bbs-3.21-bioc\R\bin\R.exe CMD INSTALL --build --library=HiLDA.buildbin-libdir HiLDA_1.21.0.tar.gz StartedAt: 2025-02-04 08:09:02 -0500 (Tue, 04 Feb 2025) EndedAt: 2025-02-04 08:09:30 -0500 (Tue, 04 Feb 2025) EllapsedTime: 28.3 seconds RetCode: 0 Status: OK PackageFile: HiLDA_1.21.0.zip PackageFileSize: 2.854 MiB