Package: HiLDA Version: 1.21.0 Command: chmod a+r HiLDA -R && E:\biocbuild\bbs-3.21-bioc\R\bin\R.exe CMD build --keep-empty-dirs --no-resave-data HiLDA StartedAt: 2025-02-03 19:26:49 -0500 (Mon, 03 Feb 2025) EndedAt: 2025-02-03 19:32:38 -0500 (Mon, 03 Feb 2025) EllapsedTime: 348.5 seconds RetCode: 0 Status: OK PackageFile: HiLDA_1.21.0.tar.gz PackageFileSize: 2.399 MiB