Package: HiTC Version: 1.51.0 Command: /Library/Frameworks/R.framework/Resources/bin/R CMD check --install=check:HiTC.install-out.txt --library=/Library/Frameworks/R.framework/Resources/library --no-vignettes --timings HiTC_1.51.0.tar.gz StartedAt: 2025-02-09 19:39:14 -0500 (Sun, 09 Feb 2025) EndedAt: 2025-02-09 19:40:57 -0500 (Sun, 09 Feb 2025) EllapsedTime: 102.3 seconds RetCode: 0 Status: WARNINGS CheckDir: HiTC.Rcheck Warnings: 1