Package: HiTC Version: 1.51.0 Command: /home/biocbuild/R/R/bin/R CMD check --install=check:HiTC.install-out.txt --library=/home/biocbuild/R/R/site-library --no-vignettes --timings HiTC_1.51.0.tar.gz StartedAt: 2025-01-28 11:31:18 -0000 (Tue, 28 Jan 2025) EndedAt: 2025-01-28 11:36:47 -0000 (Tue, 28 Jan 2025) EllapsedTime: 328.3 seconds RetCode: 0 Status: WARNINGS CheckDir: HiTC.Rcheck Warnings: 1