Package: HiTC Version: 1.51.0 Command: /home/biocbuild/R/R/bin/R CMD INSTALL HiTC StartedAt: 2025-01-29 19:53:09 -0000 (Wed, 29 Jan 2025) EndedAt: 2025-01-29 19:54:01 -0000 (Wed, 29 Jan 2025) EllapsedTime: 52.7 seconds RetCode: 0 Status: OK