Package: HiTC Version: 1.51.0 Command: rm -rf HiTC.buildbin-libdir && mkdir HiTC.buildbin-libdir && /Users/biocbuild/BBS/utils/build-universal.sh HiTC_1.51.0.tar.gz /Library/Frameworks/R.framework/Resources/bin/R HiTC.buildbin-libdir StartedAt: 2025-02-10 00:57:56 -0500 (Mon, 10 Feb 2025) EndedAt: 2025-02-10 00:58:52 -0500 (Mon, 10 Feb 2025) EllapsedTime: 56.0 seconds RetCode: 0 Status: OK PackageFile: HiTC_1.51.0.tgz PackageFileSize: 3.692 MiB