Package: HiTC Version: 1.51.0 Command: /Library/Frameworks/R.framework/Resources/bin/R CMD INSTALL HiTC StartedAt: 2025-02-09 15:18:08 -0500 (Sun, 09 Feb 2025) EndedAt: 2025-02-09 15:18:59 -0500 (Sun, 09 Feb 2025) EllapsedTime: 51.9 seconds RetCode: 0 Status: OK