Package: HiTC Version: 1.51.0 Command: /home/biocbuild/bbs-3.21-bioc/R/bin/R CMD INSTALL HiTC StartedAt: 2025-02-12 15:26:23 -0500 (Wed, 12 Feb 2025) EndedAt: 2025-02-12 15:27:02 -0500 (Wed, 12 Feb 2025) EllapsedTime: 38.4 seconds RetCode: 0 Status: OK