Package: HiTC Version: 1.51.0 Command: E:\biocbuild\bbs-3.21-bioc\R\bin\R.exe CMD INSTALL HiTC StartedAt: 2025-02-09 16:32:41 -0500 (Sun, 09 Feb 2025) EndedAt: 2025-02-09 16:33:47 -0500 (Sun, 09 Feb 2025) EllapsedTime: 66.2 seconds RetCode: 0 Status: OK