Package: HicAggR Version: 1.3.0 Command: /Library/Frameworks/R.framework/Resources/bin/R CMD build --keep-empty-dirs --no-resave-data HicAggR StartedAt: 2025-02-04 16:36:35 -0500 (Tue, 04 Feb 2025) EndedAt: 2025-02-04 16:38:32 -0500 (Tue, 04 Feb 2025) EllapsedTime: 117.1 seconds RetCode: 0 Status: OK PackageFile: HicAggR_1.3.0.tar.gz PackageFileSize: 3.331 MiB