Package: HicAggR Version: 1.3.0 Command: /Library/Frameworks/R.framework/Resources/bin/R CMD INSTALL HicAggR StartedAt: 2025-02-04 15:09:05 -0500 (Tue, 04 Feb 2025) EndedAt: 2025-02-04 15:09:16 -0500 (Tue, 04 Feb 2025) EllapsedTime: 10.6 seconds RetCode: 0 Status: OK